BEGIN:VCALENDAR
VERSION:2.0
PRODID:-//eventon.com NONSGML v1.0//EN
CALSCALE:GREGORIAN
METHOD:PUBLISH
BEGIN:VEVENT
UID:69eb574e5ac03
DTSTAMP:20260424T114310Z
DTSTART:20220825T070000Z
DTEND:20220825T070000Z
LOCATION:
SUMMARY:Sponsored Partner Content Webinar: Thankful
DESCRIPTION:Register\nhttps://flipcx.com/events/sponsored-partner-content-w
 ebinar-thankful/
URL:https://flipcx.com/events/sponsored-partner-content-webinar-thankful/
END:VEVENT
END:VCALENDAR