BEGIN:VCALENDAR
VERSION:2.0
PRODID:-//eventon.com NONSGML v1.0//EN
CALSCALE:GREGORIAN
METHOD:PUBLISH
BEGIN:VEVENT
UID:69e8c31f81cd3
DTSTAMP:20260422T124623Z
DTSTART:20240515
DTEND:20240516
LOCATION:ArenaMK Milton Keynes\,  MK1 1st
SUMMARY:PHTM Expo
DESCRIPTION:\nhttps://flipcx.com/events/phtm-expo-2/
URL:https://flipcx.com/events/phtm-expo-2/
END:VEVENT
END:VCALENDAR